BEGIN:VCALENDAR
VERSION:2.0
PRODID:-//Shendao - ECPv6.8.2.1//NONSGML v1.0//EN
CALSCALE:GREGORIAN
METHOD:PUBLISH
X-WR-CALNAME:Shendao
X-ORIGINAL-URL:https://shendao.es
X-WR-CALDESC:Eventos para Shendao
REFRESH-INTERVAL;VALUE=DURATION:PT1H
X-Robots-Tag:noindex
X-PUBLISHED-TTL:PT1H
BEGIN:VTIMEZONE
TZID:UTC
BEGIN:STANDARD
TZOFFSETFROM:+0000
TZOFFSETTO:+0000
TZNAME:UTC
DTSTART:20260101T000000
END:STANDARD
END:VTIMEZONE
BEGIN:VEVENT
DTSTART;TZID=UTC:20260311T173000
DTEND;TZID=UTC:20261028T190000
DTSTAMP:20260424T191632
CREATED:20250810T073450Z
LAST-MODIFIED:20260228T171137Z
UID:27079-1773250200-1793214000@shendao.es
SUMMARY:VOZ TERAPEUTICA: UN VIAJE SONORO AL ALMA
DESCRIPTION:CURSO DE VOZ TERAPEUTICA\nUN VIAJE SONORO HACIA EL ALMA\n\n¡Cuando cantas desde el alma\, no solo te escuchas …. te sanas !.  \nTu voz es medicina\, tu canto es libertad. \n\nNuestra voz no es solo un medio para comunicarnos: es vibración\, energía y una extensión de nuestro ser más profundo. Cuando cantamos con el corazón\, no solo emitimos sonidos… liberamos emociones\, armonizamos nuestro cuerpo y abrimos un espacio de conexión con nosotros mismos y con los demás. Un espacio quincenal guiado por Paz Villalba\, donde la voz se convierte en una herramienta de sanación\, conexión y expansión personal. ( ver artículo de BLOG: Volviendo a casa escuchando los sonidos sanadores). \n¿ QUÉ HAREMOS EN ESTE CURSO?\nEn estos talleres quincenales ( 2 clases al mes\, de 1\,5 horas de duración)\, exploraremos juntos\,  tres caminos complementarios: \n\nCanto del Alma\, para descubrir la voz auténtica que vive en ti.\nCantos Armónicos\, para experimentar la magia de las resonancias y la vibración interna.\nCantos Medicina\, para conectar con melodías sagradas que han acompañado a la humanidad desde tiempos ancestrales.\n\n¿QUÉ VIVIRAS EN CADA SESIÓN ?\nCada encuentro es un espacio seguro y amoroso\, sin juicios\, donde no importa si “cantas bien” o “mal”: aquí lo importante es cantar con el corazón. \n\nLiberación emocional: poner voz a lo que sientes ayuda a desbloquear tensiones.\nBienestar físico: fortalecerás tu respiración\, postura y resonancia natural.\nCalma mental: el canto meditativo y los armónicos ayudan a reducir el estrés.\nConexión interior: descubrirás aspectos de ti que quizá desconocías.\nVínculo grupal: cantar en comunidad crea lazos y sensación de pertenencia.\nGozo y creatividad: jugarás con tu voz sin miedo\, sin juicio y con apertura.\n\n\n¿A QUIÉN VA DIRIGIDO?\nUn espacio para ti. Si buscas un momento para ti\, para tu autocuidado y expresión\, estos talleres son un regalo. \n\nPersonas que quieren conectar con su voz y usarla como vía de autoconocimiento.\nQuienes buscan momentos de autocuidado y bienestar emocional.\nMúsicos\, terapeutas o docentes que deseen incorporar recursos vocales a su trabajo.\nPersonas sin experiencia musical que quieran explorar y expresarse libremente.\nCualquier persona que sienta que su voz tiene un propósito y quiera descubrirlo.\n\n\n\n\nINFORMACIÓN\n📅  DE OCTUBRE 2025 – JUNIO 2026 . MIÉRCOLES 17:30-19:00 H. CADA QUINCE DIAS \n\n\n\n\n\nMes\nMIÉRCOLES (Fechas)\n\n\n\n\nOctubre\n8 y 22\n\n\nNoviembre\n5 y 19\n\n\nDiciembre\n3 y 17\n\n\nEnero\n14 y 28\n\n\nFebrero\n11 y 25\n\n\nMarzo\n11 y 25\n\n\nAbril\n8 y 22\n\n\nMayo\n13 y 27\n\n\nJunio\n10 y 24\n\n\n\n\n\n✅ Total de sesiones: 18 \n💰 Opciones de Inscripción y Precios\n\n\n\n\n\nModalidad\nPrecio total\nPrecio por sesión\nDetalles\n\n\n\n\nSesión suelta\n35 €\n35 €\nAsiste a un único taller sin compromiso\n\n\nSesión mensual\n60 €\n30 €\nIncluye 2 sesiones al mes\n\n\nBono trimestral\n150 €\n25 €\nIncluye 6 sesiones (durante 3 meses)\n\n\nCurso completo\n360 €\n20 €\nAcceso a las 18 sesiones del ciclo anual\n\n\n\n\n\n  \n👥  20 plazas disponibles  \n☎️   +34 688 88 55 53 ( Pedro Fernández)  |  +34 696 238 367  ( Paz Villalba) \n📍ShenDao Healing Center C/ Torres\, nº8 Local 1 41002 Sevilla ( España). \n\n\n\n\nFACILITADO POR\nEl taller será impartido por  PAZ VILLALBA
URL:https://shendao.es/event/voz-terapeutica/
LOCATION:ShenDao Healing Center\, Torres 8. 41002\, Sevilla\, 41002\, España
CATEGORIES:Talleres
ATTACH;FMTTYPE=image/jpeg:https://shendao.es/wp-content/uploads/2025/08/Voz-Terapeutica-1.jpg
ORGANIZER;CN="ShenDao":MAILTO:info@shendao.es
END:VEVENT
END:VCALENDAR