BEGIN:VCALENDAR
VERSION:2.0
PRODID:-//Shendao - ECPv6.8.2.1//NONSGML v1.0//EN
CALSCALE:GREGORIAN
METHOD:PUBLISH
X-WR-CALNAME:Shendao
X-ORIGINAL-URL:https://shendao.es
X-WR-CALDESC:Eventos para Shendao
REFRESH-INTERVAL;VALUE=DURATION:PT1H
X-Robots-Tag:noindex
X-PUBLISHED-TTL:PT1H
BEGIN:VTIMEZONE
TZID:UTC
BEGIN:STANDARD
TZOFFSETFROM:+0000
TZOFFSETTO:+0000
TZNAME:UTC
DTSTART:20230101T000000
END:STANDARD
END:VTIMEZONE
BEGIN:VEVENT
DTSTART;VALUE=DATE:20230919
DTEND;VALUE=DATE:20260831
DTSTAMP:20260424T223206
CREATED:20230906T210932Z
LAST-MODIFIED:20251016T193257Z
UID:23915-1695081600-1788134399@shendao.es
SUMMARY:Actividades Semanales ShenDao
DESCRIPTION:AQUÍ TIENES TODA LA INFORMACIÓN DE NUESTROS ACTIVIDADES SEMANALES/ QUINCENALES \n  \n\nMAPA DE LOCALIZACIÓN
URL:https://shendao.es/event/actividades-regulares/
LOCATION:ShenDao Healing Center\, Torres 8. 41002\, Sevilla\, 41002\, España
CATEGORIES:Experiencias,Formación,Talleres
ATTACH;FMTTYPE=image/jpeg:https://shendao.es/wp-content/uploads/2023/09/Horario-Actividades-Shendao.jpg
ORGANIZER;CN="ShenDao":MAILTO:info@shendao.es
END:VEVENT
BEGIN:VEVENT
DTSTART;TZID=UTC:20260112T200000
DTEND;TZID=UTC:20280112T210000
DTSTAMP:20260424T223206
CREATED:20240807T100532Z
LAST-MODIFIED:20251229T140312Z
UID:25306-1768248000-1831323600@shendao.es
SUMMARY:HATHA YOGA EN SEVILLA
DESCRIPTION:Encuentra Paz y Equilibrio con HATHA YOGA en Sevilla\nDescubre cómo HATHA YOGA puede transformar tu vida\, mejorando tu bienestar físico y mental en solo unas sesiones. ¡Inscríbete hoy y empieza tu viaje hacia una vida más equilibrada!\n  \n¿Te sientes abrumado por el estrés diario y la rutina? ¿Anhelas un espacio donde puedas desconectar\, encontrar paz y reconectar contigo mismo? HATHA YOGA es la práctica ideal para quienes buscan equilibrio entre cuerpo y mente. En Sevilla\, ofrecemos actividades de yoga en nuestras instalaciones de Shendao\, diseñadas para ayudarte a reducir el estrés\, aumentar tu fuerza y flexibilidad\, y alcanzar un estado de serenidad profunda. Inscribirte en nuestras sesiones es el primer paso hacia una vida más saludable y equilibrada. \nLa vida moderna en Sevilla puede ser agotadora. Entre el trabajo\, las responsabilidades familiares y el ruido constante de la ciudad\, es fácil sentirse desconectado de uno mismo. Este estrés constante no solo afecta tu salud mental\, sino que también puede manifestarse en dolores físicos\, insomnio y una sensación general de agotamiento. \nHATHA YOGA SEVILLA ofrece la solución perfecta a estos problemas. Con un enfoque en la alineación del cuerpo\, la respiración consciente y la meditación\, nuestras actividades de yoga están diseñadas para aliviar el estrés\, fortalecer tu cuerpo y mejorar tu bienestar general. Cada sesión te ofrece un espacio seguro y tranquilo para relajarte\, desconectar del mundo exterior y enfocarte en tu crecimiento personal. Además\, nuestras clases se adaptan a todos los niveles\, por lo que no necesitas experiencia previa para comenzar. \nBENEFICIOS DEL HATHA YOGA\nMejora tu bienestar físico y mental.  HATHA YOGA combina posturas físicas con técnicas de respiración y meditación. Esta combinación no solo fortalece y flexibiliza tu cuerpo\, sino que también calma tu mente\, ayudándote a liberar tensiones acumuladas y mejorar tu concentración. \nReduce el estrés y la ansiedad. A través de prácticas de respiración profunda y movimientos suaves\, HATHA YOGA activa tu sistema nervioso parasimpático\, induciendo un estado de relajación profunda que reduce el estrés y la ansiedad. Esto te permite enfrentar los desafíos diarios con una mente más clara y un cuerpo más relajado. \nConecta con una comunidad de bienestar en Sevilla. Al unirte a nuestras sesiones de HATHA YOGA\, te integras en una comunidad de personas con intereses similares\, donde podrás compartir experiencias\, aprender de otros y encontrar apoyo en tu viaje hacia el bienestar. Además\, nuestros instructores están siempre disponibles para guiarte y responder cualquier duda que tengas. \ntestimonios\n «Desde que comencé con HATHA YOGA en Sevilla\, he notado una gran mejora en mi flexibilidad y mi capacidad para manejar el estrés. Las clases son accesibles y los instructores son increíblemente comprensivos y alentadores. ¡Es el mejor regalo que me he dado!» – María G. \n«Estaba buscando una forma de desconectar del bullicio de la ciudad y lo encontré en HATHA YOGA con ADRIANO. Cada clase es un oasis de paz. Me siento más centrado y equilibrado\, tanto mental como físicamente. Lo recomiendo enormemente.» – Javier R. \nconsigue tus objetivos\n «No tengo tiempo suficiente para asistir a clases de yoga.» Entendemos que la vida puede ser agitada\, por eso ofrecemos una variedad de horarios de clases\, incluyendo opciones temprano en la mañana y tarde en la noche. Incluso una sola sesión a la semana puede marcar una gran diferencia en tu bienestar. \n «No tengo experiencia previa en yoga.» No necesitas tener experiencia previa para comenzar. Nuestras clases están diseñadas para todos los niveles\, y nuestros instructores te guiarán paso a paso\, adaptando las posturas a tus capacidades y necesidades. \nNosotros estamos tan seguros de los beneficios que obtendrás de HATHA YOGA que te ofrecemos una garantía de satisfacción del 100%. Si después de tu primera clase no sientes una mejora en tu bienestar\, te devolveremos el costo de la sesión\, sin preguntas. ¡No tienes nada que perder y mucho que ganar! \nNo esperes más para empezar a sentirte mejor. Inscríbete ahora en nuestras actividades de HATHA YOGA en Sevilla y da el primer paso hacia una vida más equilibrada y plena. ¡Te esperamos en el mat! \n\n\n\n\n\n\n\n\n\n\n\n\n\n\n\n\n\n\n\n\n\n\n\n\n\n\n\n\n\n\n\nINFORMACIÓN\n📅  FECHAS Y HORAS CLASES 60 MIN \n\n \nLUNES Y MIERCOLES: 20:00h  IMPARTIDO POR ADRIANO DOMENECH \n💶 APORTACIÓN \n\n8 clases mensuales: 60€\n4 clases mensuales: 42€\n1 clases suelta: 15€\n\n👥  12 plazas disponibles en cada horario. \n☎️   +34 688724245  |  +34 649941455 (Adriano Domenech)  \n📍ShenDao Healing Center C/ Torres\, nº8 Local 1 41002 Sevilla ( España).
URL:https://shendao.es/event/yoga-en-sevilla/
LOCATION:ShenDao Healing Center\, Torres 8. 41002\, Sevilla\, 41002\, España
CATEGORIES:Experiencias,Formación,Talleres
ATTACH;FMTTYPE=image/jpeg:https://shendao.es/wp-content/uploads/2024/08/Hatha-Yoga-Sevilla-1.jpg
ORGANIZER;CN="ShenDao":MAILTO:info@shendao.es
END:VEVENT
BEGIN:VEVENT
DTSTART;TZID=UTC:20260630T100000
DTEND;TZID=UTC:20290629T210000
DTSTAMP:20260424T223206
CREATED:20240808T104533Z
LAST-MODIFIED:20260328T192635Z
UID:25436-1782813600-1877461200@shendao.es
SUMMARY:FORMACIÓN MASAJES EN SEVILLA
DESCRIPTION:Eleva tu Arte del Masaje: Formación en Masajes Terapéuticos y Holísticos en Sevilla\nDomina técnicas como Shiatsu\, Thai\, Deep Tissue\, Ayurveda y otras más\, y transforma tu carrera en bienestar\n  \n¿Te gustaría llevar tus habilidades de masaje a un nuevo nivel\, añadiendo técnicas avanzadas que ofrezcan una experiencia transformadora a tus clientes? ¿O tal vez sueñas con convertirte en un terapeuta de masaje altamente capacitado\, listo para formar parte de un equipo profesional?. Nuestra FORMACIÓN DE MASAJES EN SEVILLA es la oportunidad perfecta para expandir tus conocimientos y destacarte en el campo del bienestar. Aprende de expertos en Shiatsu\, Thai\, Deep Tissue\, Masaje Californiano\, Ayurveda y más\, y abre la puerta a nuevas oportunidades profesionales. \nEn un mundo cada vez más acelerado\, muchas personas buscan masajes que no solo alivien el dolor físico\, sino que también restauren el equilibrio emocional y energético. Sin embargo\, muchos terapeutas de masaje encuentran difícil destacarse en un mercado saturado\, careciendo de la formación especializada que les permita ofrecer algo realmente único y efectivo. \nNuestra FORMACIÓN DE MASAJES VARIOS EN SEVILLA te proporcionará las herramientas y técnicas necesarias para llevar tu práctica al siguiente nivel. No solo aprenderás métodos avanzados y específicos como el Shiatsu\, el masaje Thai y Ayurveda\, sino que también desarrollarás una comprensión profunda de cómo combinar estas técnicas para crear sesiones personalizadas que satisfagan las necesidades de cada cliente. Por otro lado\, también aprenderás a cuidar tu postura a la hora de dar masajes. Además\, al finalizar\, y si la empresa lo estima oportuno\, puedes tener la oportunidad de unirte al equipo de masajistas en ShenSations Wellness Center (opcional\, no obligatorio)\, lo que te permitirá aplicar tus nuevas habilidades en un entorno profesional. \nBENEFICIOS DE nuestra formación de masajes\nDesarrollo Profesional y Especialización: Al completar nuestra formación\, te convertirás en un terapeuta de masaje con un conjunto de habilidades amplias y diversificadas\, lo que te permitirá destacarte en el mercado y atraer a una clientela fiel. Tu capacidad para ofrecer masajes terapéuticos y holísticos de alta calidad te abrirá puertas en spas\, centros de bienestar y prácticas privadas. Formación Integral en Múltiples Técnicas.  El programa incluye un enfoque detallado en Shiatsu\, Masaje Thai\, Deep Tissue\, Masaje Californiano\, Ayurveda y más\, asegurando que domines cada modalidad con la guía de instructores experimentados. \nOportunidad de Crecimiento y Empleabilidad: Además de mejorar tus habilidades\, al completar la formación\, puedes tener la oportunidad de unirte al equipo de masajistas en ShenSations ( si la empresa lo considera oportuno). Esto no solo te ofrece una vía directa hacia la práctica profesional\, sino también un entorno donde continuar aprendiendo y creciendo. \n Networking y Acceso a Comunidad Profesional: Te integrarás en una comunidad de profesionales del masaje\, lo que te brindará oportunidades para el networking\, el intercambio de conocimientos y la colaboración en futuros proyectos. \ntestimonios\n«Decidirme por la formación en masajes de ShenSations fue un cambio radical en mi carrera. No solo aprendí técnicas que nunca imaginé dominar\, sino que también me ofrecieron la oportunidad de unirme a su equipo profesional. Ahora\, mis clientes destacan la diferencia y siento que he encontrado mi verdadera vocación.» – Ana G. \n«La formación es excepcional. Los instructores son muy atentos y el contenido es profundo y variado. La posibilidad de aprender tantas técnicas diferentes me ha dado la confianza para atender a cualquier tipo de cliente.» – Carlos M. \nconsigue tus objetivos\n«No tengo experiencia previa en masajes\, ¿será demasiado difícil para mí?». Nuestro programa está diseñado para ser accesible a todos los niveles\, desde principiantes hasta masajistas con experiencia. Los instructores adaptan el contenido y el ritmo de las clases para asegurar que todos los participantes avancen y se sientan cómodos con las técnicas aprendidas. \n «¿Tendré tiempo para realizar el curso con mi agenda ocupada?». Ofrecemos una formación modular\, en forma de talleres\, siendo cada taller un a mini-formación en sí misma. Queremos que aproveches esta oportunidad sin comprometer tu vida personal o profesional. \n  \nNo dejes pasar la oportunidad de transformar tu carrera y tu vida. Inscríbete en nuestra formación en masajes en Sevilla y comienza a construir una carrera que te apasione y que impacte positivamente en la vida de otros. Reserva tu lugar ahora y da el primer paso hacia un futuro brillante en el bienestar. \n\n\n\n\n\n\n\n\n\n\n\n\n\n\n\n\n\n\n\n\n\n\n\n\n\n\n\n\n\n\n\nINFORMACIÓN\n📅  FECHAS Y HORAS  \n\n \nREFLEXOLOGIA THAI | PEDRO DAVID PIQUERAS | 4-5 OCTUBRE | 10:00-18:30h |  \n \nCHI NEI TSANG NUAD TONG | DIEGO MARQUETE | 26-39 NOVIEMBRE | 10:00-18:00h |  \n \nSHIATSU. FORMAS DE CONTACTO | DAVID VENTURA | 14-15 MARZO | 10:00-20:00h | 10:00-14:00h| \n👥   plazas disponibles  \n☎️   +34 688 72 42 45   \n📍ShenDao Healing Center C/ Torres\, nº8 Local 1 41002 Sevilla ( España). \n\n\n\n\nIMPARTIDO POR\n\n\n\n\n\n\n\nPEDRO FERNANDEZ.  Practicante de las Terapias Complementarias desde hace más de 20 años. Enamorado de la Medicina Tradicional China\, que constituye la base sobre la que asiento mi vida. CEO de ShenSations Wellness Center y Shendao Healing Center. Apasionado del Shiatsu y de cualquier terapia manual. Se ha formado con los mejores profesionales a nivel nacional e internacional;  y ahora quiere ofrecer lo aprendido a otras personas que quieran aventurarse en este camino excepcional del tacto.
URL:https://shendao.es/event/formacion-de-masajes-sevilla/
LOCATION:ShenDao Healing Center\, Torres 8. 41002\, Sevilla\, 41002\, España
CATEGORIES:Actividades Regulares,Formación,Talleres
ATTACH;FMTTYPE=image/jpeg:https://shendao.es/wp-content/uploads/2024/08/7.jpg
ORGANIZER;CN="ShenDao":MAILTO:info@shendao.es
END:VEVENT
END:VCALENDAR